BEGIN:VCALENDAR
VERSION:2.0
CALSCALE:GREGORIAN
PRODID:-//MyApp//Calendar 1.0//EN
BEGIN:VEVENT
METHOD:PUBLISH
UID:32139@regionalniportaly.cz
DTSTAMP:20260422T040849Z
DTSTART;VALUE=DATE:20230722
DTEND;VALUE=DATE:20230723
SUMMARY:Pohádkový festival Kyjov 2023
DESCRIPTION:Pohádkový festival Kyjov&nbsp\;Zveme Vás na 1. ročník velkého rodinného Pohádkového festivalu v Kyjově 🍄Nafukovací atrakce a doprovodný program v ceně vstupného ❗️★ LOLLIPOPZ★ KAROL A KVÍDO★ BIBI BUM★ PACI PAC - SK&nbsp\;★ VESELUŠKA★ TROPICAL ISLAND SHOW&nbsp\;•••••••••••••••••••••••••••••••••••••••••••••••••••••••••CO VÁS VŠECHNO ČEKÁ:▪️ Celodenní program pro celou rodinu▪️ Oblíbení umělci▪️ RADIO JIH live▪️ tvořivé dílny pro děti▪️ 8 nafukovacích atrakcí - V CENĚ VSTUPENKY▪️ Oblíbení maskoti&nbsp\;▪️ malování na obličej\, tetování pro děti▪️ GASTRO ZONA - hot dogy\, burgery\, quesadilla\, tortilla\, waffle\, hranolky\, zmrzlina\, grilované speciality\, sladkosti\, cukrová vata a další...▪️ Myslíme i na rodiče: Vinné drinky\, Costa coffe zona\, Aperol Spritz▪️ SOUTĚŽE pro děti od DDM Kyjov - každé dítě po splnění obdrží dáreček od WIKY&nbsp\;•••••••••••••••••••••••••••••••••••••••••••••••••••••••••🎟 🎟 🎟 VSTUPENKY 🎟 🎟 🎟V předprodeji:I. vlna - 249\,- Kč - VYPRODÁNO!II. vlna - 299\,- Kč - VYPRODÁNO!III. vlna 329\,- Kč - VYPRODÁNO!NA MÍSTĚ VSTUPENKY NEBUDOU K DISPOZICI\, JELIKOŽ SE VSTUPENKY KVŮLI VELKÉMU ZÁJMU VYPRODALY&nbsp\;V PŘEDPRODEJI!&nbsp\;Vstup na místě bude možný už jen pouze pro děti do 2 let (do 1\,99 let) a nebo pro držitele průkazů ZTP\, ZTP/P..KDY: So 22. 7. 2023 (10:00-18:00)KDE: Městský park Kyjov (Areál bude otevřen již od 9:00)Sleduj nás pro monho užitečných informací vč. nejčajštěji kladených dotazů\, které jsme pro Vás zpracovali na našem webu www.pohadkovyfestivalkyjov.czAkce se koná za každého počasí! ☀️Těšíme se na Vás!&lt\;3 Kinder Events&lt\;3 Městské kulturní středisko Kyjov&lt\;3 RÁDIO JIH&lt\;3 WIKY
LOCATION:Kyjov
END:VEVENT
END:VCALENDAR