BEGIN:VCALENDAR
VERSION:2.0
CALSCALE:GREGORIAN
PRODID:-//MyApp//Calendar 1.0//EN
BEGIN:VEVENT
METHOD:PUBLISH
UID:32642@regionalniportaly.cz
DTSTAMP:20260421T215544Z
DTSTART;VALUE=DATE:20230502
DTEND;VALUE=DATE:20230503
SUMMARY:Dechová hudba Vinařinka
DESCRIPTION:
LOCATION:Kyjov
END:VEVENT
END:VCALENDAR