BEGIN:VCALENDAR
VERSION:2.0
CALSCALE:GREGORIAN
PRODID:-//MyApp//Calendar 1.0//EN
BEGIN:VEVENT
METHOD:PUBLISH
UID:32939@regionalniportaly.cz
DTSTAMP:20260424T163349Z
DTSTART;VALUE=DATE:20230507
DTEND;VALUE=DATE:20230508
SUMMARY:Friška slaví 20 let
DESCRIPTION:
LOCATION:Kyjov
END:VEVENT
END:VCALENDAR