BEGIN:VCALENDAR
VERSION:2.0
CALSCALE:GREGORIAN
PRODID:-//MyApp//Calendar 1.0//EN
BEGIN:VEVENT
METHOD:PUBLISH
UID:35695@regionalniportaly.cz
DTSTAMP:20260424T083539Z
DTSTART;VALUE=DATE:20231103
DTEND;VALUE=DATE:20231105
SUMMARY:Filmový festival Kyjograf 2023
DESCRIPTION:Po rozkliknutí tlačítka "Koupit vstupenku" se nabídne přehled akreditací.Kyjov již popáté ožije filmem. Kyjograf nabídne výrazné české snímky\, besedy s tvůrci\, vlastní kavárnu a bar\, DJs\, tvořivé dílny nebo koncert kultovních PSH v kinosále.&nbsp\;Pokud chcete během jednoho víkendu zhlédnout pozoruhodné tuzemské filmy\, besedovat\, být v obraze a ochutnat místní speciality\, dorazte na Panoramku.&nbsp\;Přehled celofestivalových vstupenek▲ Celofestivalová vstupenka KOMPLET &nbsp\;(včetně koncertu PSH) ~ 650 Kč/550 Kč - Student + ZTP/P)▲ Celofestivalová vstupenka&nbsp\; FILMOVÁ (bez koncertu)&nbsp\;~ 400 Kč/350 Kč - Student + ZTP/P▲ Celofestivalová vstupenka MECENÁŠSKÁ &nbsp\;(akreditace komplet obohacená dobrým skutkem) ~ 1111 Kč&nbsp\;&nbsp\;Kyjov již popáté ožije filmem. Kyjograf nabídne výrazné české snímky\, besedy s tvůrci\, vlastní kavárnu a bar\, DJs\, tvořivé dílny nebo koncert kultovních PSH v kinosále.&nbsp\;Pokud chcete během jednoho víkendu zhlédnout pozoruhodné tuzemské filmy\, besedovat\, být v obraze a ochutnat místní speciality\, dorazte na Panoramku.&nbsp\;Kompletní program&nbsp\;www.kyjograf.cz&nbsp\;
LOCATION:Kyjov
END:VEVENT
END:VCALENDAR