BEGIN:VCALENDAR
VERSION:2.0
CALSCALE:GREGORIAN
PRODID:-//MyApp//Calendar 1.0//EN
BEGIN:VEVENT
METHOD:PUBLISH
UID:35713@regionalniportaly.cz
DTSTAMP:20260422T075243Z
DTSTART;VALUE=DATE:20231103
DTEND;VALUE=DATE:20231104
SUMMARY:Divadlo ve filmu: Maryša
DESCRIPTION:Divadlo ve filmu: Maryša je unikátním prolnutím divadelního a filmového umění. Filmovým přepisem divadla z&nbsp\;doby\, kdy diváci kvůli pandemii covid-19 na dlouhé měsíce nesměli do svých divadel a divadla nemohla otevřít sály svým divákům.&nbsp\;Viktor Tauš\, společně s&nbsp\;kameramanským virtuózem Martinem Doubou a střihačem Aloisem Fišárkem\, se ujal Maryši\, slavné divadelní hry bratří Mrštíků. Respektive její inscenace pro Národní divadlo z&nbsp\;podzimu 2017\, již zpracoval uznávaný divadelní režisér Jan Mikulášek se svým dvorním scénografem Markem Cpinem. Umělci tragédii vesnické dívky oprostili od folklóru\, děj situovali do nahrávacího studia a herce oblékli do současných kostýmů. Výsledná hra je plná důmyslných metafor a silných emocí a v&nbsp\;jádru věrná své nadčasové předloze.&nbsp\;"Na jevišti se nehraje o ničem menším než o krutém zmarnění života\, o duševním a fyzickém násilí a především o neschopnosti vzájemně si naslouchat."
LOCATION:Kyjov
END:VEVENT
END:VCALENDAR