BEGIN:VCALENDAR
VERSION:2.0
CALSCALE:GREGORIAN
PRODID:-//MyApp//Calendar 1.0//EN
BEGIN:VEVENT
METHOD:PUBLISH
UID:35714@regionalniportaly.cz
DTSTAMP:20260424T083526Z
DTSTART;VALUE=DATE:20231103
DTEND;VALUE=DATE:20231104
SUMMARY:Úsvit
DESCRIPTION:Do městečka Svit pod Tatrami přijíždí v roce 1937 ředitel velké továrny se svou ženou\, aby zde po baťovském vzoru Zlína postavili moderní průmyslové město. Jejich plány ale naruší znepokojující nález mrtvoly v areálu továrny. Případ přesahuje možnosti místních četníků\, podléhá maximálnímu utajení a na místo přijíždí tajná policie. Nicméně zdá se\, že jediný\, kdo chce záhadu vyřešit a nalézt odpovědi a pravdu\, je ředitelova těhotná žena…Úsvit je dobová detektivka ze života ve společnosti\, která už není tradiční\, ale ještě se nestala moderní\, a s výrazným přesahem do současnosti. Tematicky ambiciózní\, žánrově různorodá a vizuálně podmanivá. Trpělivému divákovi se odvděčí jako málokterý tuzemský film.&nbsp\;&nbsp\;
LOCATION:Kyjov
END:VEVENT
END:VCALENDAR