BEGIN:VCALENDAR
VERSION:2.0
CALSCALE:GREGORIAN
PRODID:-//MyApp//Calendar 1.0//EN
BEGIN:VEVENT
METHOD:PUBLISH
UID:35715@regionalniportaly.cz
DTSTAMP:20260422T035614Z
DTSTART;VALUE=DATE:20231104
DTEND;VALUE=DATE:20231105
SUMMARY:Bod obnovy
DESCRIPTION:V roce 2041 máte právo být po nehodě či jiné nepřirozené smrti oživeni. Stačí si jen pravidelně vytvářet digitální zálohu své osobnosti – bod obnovy. Agentka Em dostává do rukou případ\, kdy byla základní pravidla obnovy porušena. Bod obnovy oběti byl smazán a Em tak má před sebou výjimečný zločin…&nbsp\;Jedno z největších překvapení českého filmu\, sci-fi kriminálka ze cyberpunkové Prahy a blízká budoucnost\, kdy technologie budou zaručovat lepší život a lidé si budou moci zaplatit jeho prodloužení.&nbsp\;
LOCATION:Kyjov
END:VEVENT
END:VCALENDAR