BEGIN:VCALENDAR
VERSION:2.0
CALSCALE:GREGORIAN
PRODID:-//MyApp//Calendar 1.0//EN
BEGIN:VEVENT
METHOD:PUBLISH
UID:35716@regionalniportaly.cz
DTSTAMP:20260424T131650Z
DTSTART;VALUE=DATE:20231104
DTEND;VALUE=DATE:20231105
SUMMARY:Brutální vedro
DESCRIPTION:„Fragment Slunce letí k Zemi. Za 30 let ji mine nebo dojde k nárazu. Smiř se s&nbsp\;tím.“&nbsp\;K Zemi pomalu letí rozžhavený kus Slunce. Teplota prudce stoupá a Vincent se zasekl kdesi na konci světa. Lidské povahy se deformují a vařící realita je pokřivená… Brutální vedro je maximálně pozoruhodné dílo debutujícího Alberta Hospodářského. Stěží zařaditelný\, esteticky promyšlený a divácky vyzývavý titul je protkán zcela unikátní a nekompromisní originalitou\, tvůrčí nebojácností\, až drzostí a autorovým mimořádným pozorovacím talentem… Vincenta ztvárnil Vincent\, Albertův o pět let mladší bratr.&nbsp\;&nbsp\;
LOCATION:Kyjov
END:VEVENT
END:VCALENDAR