BEGIN:VCALENDAR
VERSION:2.0
CALSCALE:GREGORIAN
PRODID:-//MyApp//Calendar 1.0//EN
BEGIN:VEVENT
METHOD:PUBLISH
UID:35717@regionalniportaly.cz
DTSTAMP:20260424T162832Z
DTSTART;VALUE=DATE:20231104
DTEND;VALUE=DATE:20231105
SUMMARY:PSH - koncert
DESCRIPTION:Koncert v kinosáleKultovní Peneři Strýčka Homeboye poprvé v&nbsp\;Kyjově.&nbsp\;▪️Afterparty DJ's Joshek &amp\; Ban Jarnet▪️Kinokavárna\, místní vinaři ▪️ kyjovský koktejlový Yalla bar▪️ Pivovar MazákFoyer kina se třemi bary je otevřeno zdarma a po celý den. Můžete jej tedy navštívit bez ohledu na to\, jestli máte vstupenku nebo ne. Pokud se chystáte na koncert\, nebojte se přijít o několik hodin dřív\,&nbsp\;ať můžete nasát festivalovou atmosféru a vyzkoušet pivo Kyjograf od pivovaru Mazák nebo speciální drinky od Yalla bar Kyjov.&nbsp\;‼️ Kapacita sálu omezená! Vstupenku můžeš zakoupit samostatně a nebo v rámci CELOFESTIVALOVÉ VSTUPENKY KOMPLET\, která tě dostane jak na koncert\, tak na všechny festivalové projekce.Orion\, Vladimír 518 &amp\; Mike Trafik\, tři jména\, písmena\, bangery vznikaj. Velmi inteligentní Pražáci budou odpovídat na záludné otázky\, PSH ist gute Gruppe / Kurzweil\, Roland\, Sennheiser.Klubová sezona pomalu klepe na dveře a to znamená jediný\, že kapela PSH zase vyráží na další část svojí Nekonečný tour!Přes léto brousili svoje řemeslo na nespočtu letních open-airů a největších festivalů. Teď je čas vrátit se do temnýho prostředí klubu a zrevitalizovat jejich klubový playlist! Můžete čekat naprosto legendární diktát a samozřejmě i nějaký ty fyzický nosiče a merch pokud byste chtěli udělat radost sobě nebo někomu jinýmu pod stromeček. Celkem nás čeká 15 zastávek po celé České republice a letos pro Slovensko pouze Bratislava!Celá tour je "Powered by Corona"Další partneři tour jsou Radio Spin\, Mattoni&nbsp\;&nbsp\;
LOCATION:Kyjov
END:VEVENT
END:VCALENDAR