BEGIN:VCALENDAR
VERSION:2.0
CALSCALE:GREGORIAN
PRODID:-//MyApp//Calendar 1.0//EN
BEGIN:VEVENT
METHOD:PUBLISH
UID:35718@regionalniportaly.cz
DTSTAMP:20260424T145702Z
DTSTART;VALUE=DATE:20231104
DTEND;VALUE=DATE:20231105
SUMMARY:To nejlepší z animace (pásmo krátkometrážních filmů)
DESCRIPTION:Máme tu čest uvést výběr vynikajících krátkých animovaných filmů současných mladých filmařů z FAMU. Pásmo je ukázkou jejich talentu\, originálního vidění\, pracovitosti i&nbsp\;schopnosti práce s&nbsp\;nejrůznějšími animačními styly\, kupříkladu olejomalbou na skle či pookénkovou animací reálných předmětů a herců.&nbsp\;Mezi promítané snímky patří podmanivý baladický počin Anny Podskalské Rudé boty inspirovaný stejnojmennou pohádkou Hanse Christiana Andersena o marnivé dívce s&nbsp\;červenými botami\, které ji za trest nutí neustále tančit\, či hravá\, nápaditá a hojně oceňovaná Electra Darii Kashcheevy\, surrealistický a asociativní „barbie horor“\, „nespoutaná vizuální báseň“ o dívčím dospívání\, zpracovávání traumatu a komplikovaném vztahu k&nbsp\;vlastnímu tělu.&nbsp\;
LOCATION:Kyjov
END:VEVENT
END:VCALENDAR