BEGIN:VCALENDAR
VERSION:2.0
CALSCALE:GREGORIAN
PRODID:-//MyApp//Calendar 1.0//EN
BEGIN:VEVENT
METHOD:PUBLISH
UID:35719@regionalniportaly.cz
DTSTAMP:20260424T181558Z
DTSTART;VALUE=DATE:20231105
DTEND;VALUE=DATE:20231106
SUMMARY:Good Old Czechs
DESCRIPTION:Společný projekt uznávaného dokumentaristy Tomáše Bojara a talentovaného střihače Šimona Špidly vypráví o strhujících osudech dvojice mladých československých letců RAF Františka Fajtla a Filipa Jánského. Činí tak montáží dobových archivních záběrů\, mistrným ozvučením a osobními vzpomínkami a postřehy obou pilotů… Good Old Czechs je audiovizuálně podmanivé prolnutí malých a velkých dějin\, svědectví o poetičnosti zamračeného nebe\, banální všednodennosti i totální zkáze.„Místní se nás ptali\, jestli jsme z Belgie\, z Francie\, nebo odkaď. ‚We are from Czechoslovakia\,‘ říkáme jim. A jeden Angličan na to hned povídá: ‚Good old Czechs!‘ V davu se to pak šířilo jako úplná infekce. ‚Good old Czechs\, good old Czechs\,‘ volali na nás všichni\, i když asi sotva věděli\, kde nějaký Československo vůbec leží.“&nbsp\;
LOCATION:Kyjov
END:VEVENT
END:VCALENDAR