BEGIN:VCALENDAR
VERSION:2.0
CALSCALE:GREGORIAN
PRODID:-//MyApp//Calendar 1.0//EN
BEGIN:VEVENT
METHOD:PUBLISH
UID:35720@regionalniportaly.cz
DTSTAMP:20260422T080526Z
DTSTART;VALUE=DATE:20231105
DTEND;VALUE=DATE:20231106
SUMMARY:Přišla v noci
DESCRIPTION:Když si pár třicátníků pustí přes práh matku jednoho z nich\, netuší\, že se právě ocitl v komorním očistci. Poklidný život se pomalu mění v chaotické trosky. Pěstěná šedesátnice Valerie je energická diva\, která si krok za krokem podmaňuje nejen prostor bytu\, ale i mysl jeho obyvatel. Plíživá domácí invaze nabírá na síle\, jistoty se otřásají\, hranice soukromí bortí. Mají matky a tchýně vždycky pravdu? Myslí to s námi dobře? A nejsou někdy právě proto těmi největšími monstry?Film Přišla v noci Tomáše Pavlíčka a Jana Vejnara je rozkročený mezi hořkou komedií a&nbsp\;hororem\, jenž pracuje s&nbsp\;motivem vetřelce v&nbsp\;intimním prostoru domova. Nízkorozpočtový a chytrý titul\, jehož od premiéry na karlovarském festivalu provází divácké i kritické nadšení\, působí civilně a autenticky a osvěžuje žánr tuzemské komedie o absurdní humor\, pečlivě odposlouchané dialogy a obecně platné vztahové situace.&nbsp\;Hlavní úlohy se bravurně zhostila rázná brněnská divadelní herečka Simona Peková\, pro niž se jednalo o první filmovou roli za dekádu.&nbsp\;
LOCATION:Kyjov
END:VEVENT
END:VCALENDAR