BEGIN:VCALENDAR
VERSION:2.0
CALSCALE:GREGORIAN
PRODID:-//MyApp//Calendar 1.0//EN
BEGIN:VEVENT
METHOD:PUBLISH
UID:35804@regionalniportaly.cz
DTSTAMP:20260424T100420Z
DTSTART;VALUE=DATE:20231104
DTEND;VALUE=DATE:20231105
SUMMARY:Animační dílna pro děti ve 6–15 let
DESCRIPTION:Chcete\, aby si vaše děti vyzkoušely něco nového? Zajímá je svět animace a digitálních médií? Pak zde budete mít k dispozici techniku a zkušené lektory\, kteří je seznámí se základy tvorby klasického animovaného filmu.Lektoři ze Studia Scala\, kteří kurz povedou\, mají bohaté zkušenosti\, proto se nebojte a přihlaste se také.Pozor\, místo konání kurzu je v kavárně Pražírna! Rodiče mohou na své dítě počkat u šálku dobré kávy.&nbsp\;Kapacita omezenáCena:&nbsp\;250 Kč/dítěDélka kurzu:&nbsp\;3 hodiny
LOCATION:Kyjov
END:VEVENT
END:VCALENDAR