BEGIN:VCALENDAR
VERSION:2.0
CALSCALE:GREGORIAN
PRODID:-//MyApp//Calendar 1.0//EN
BEGIN:VEVENT
METHOD:PUBLISH
UID:35862@regionalniportaly.cz
DTSTAMP:20260422T015423Z
DTSTART;VALUE=DATE:20231105
DTEND;VALUE=DATE:20231106
SUMMARY:Dílna hraného filmu pro děti od 10 let
DESCRIPTION:Intenzivní kurz hraného filmu pro děti od 10 let.&nbsp\;Chcete\, aby si vaše děti vyzkoušely něco nového? Zajímá je svět animace a digitálních médií? Pak zde budete mít k dispozici techniku a zkušené lektory\, kteří je seznámí se základy tvorby klasického animovaného filmu.Lektoři ze Studia Scala\, kteří kurz povedou\, mají bohaté zkušenosti\, proto se nebojte a přihlaste se také.Místo konání: Městská knihovna Kyjov\, Kino Panorama Kyjov.&nbsp\;Kapacita omezenáCena:&nbsp\;390 Kč/dítěDélka kurzu:&nbsp\;8 hodiny + 1 hodina pauzaObčerstvení: Zajištěno vč. obědu&nbsp\;www.kyjograf.czV případě dotazů nás neváhejte kontaktovat 733644494 festivalkyjograf@gmail.com&nbsp\;
LOCATION:Kyjov
END:VEVENT
END:VCALENDAR