BEGIN:VCALENDAR
VERSION:2.0
CALSCALE:GREGORIAN
PRODID:-//MyApp//Calendar 1.0//EN
BEGIN:VEVENT
METHOD:PUBLISH
UID:36347@regionalniportaly.cz
DTSTAMP:20260422T035520Z
DTSTART;VALUE=DATE:20231202
DTEND;VALUE=DATE:20231203
SUMMARY:Přichází čas adventní
DESCRIPTION:
LOCATION:Kyjov
END:VEVENT
END:VCALENDAR