BEGIN:VCALENDAR
VERSION:2.0
CALSCALE:GREGORIAN
PRODID:-//MyApp//Calendar 1.0//EN
BEGIN:VEVENT
METHOD:PUBLISH
UID:38728@regionalniportaly.cz
DTSTAMP:20260422T015545Z
DTSTART;VALUE=DATE:20240511
DTEND;VALUE=DATE:20240512
SUMMARY:Hovoranskými vinohrady za vínem 2024
DESCRIPTION:Akce se koná 11. května od 11.00 hod. Na trase krásnou přírodou Moravského Toskánska ochutnáte výběr nejlepších vín našich vinařů a&nbsp\;také mnoho specialit k&nbsp\;jídlu. Večer se můžete těšit na zábavu s&nbsp\;cimbálovou muzikou. V&nbsp\;neděli 12. května od 9.00 do 12.00 hod. prodej vína ve sklepech.
LOCATION:Hovorany
END:VEVENT
END:VCALENDAR