BEGIN:VCALENDAR
VERSION:2.0
CALSCALE:GREGORIAN
PRODID:-//MyApp//Calendar 1.0//EN
BEGIN:VEVENT
METHOD:PUBLISH
UID:38829@regionalniportaly.cz
DTSTAMP:20260424T131412Z
DTSTART;VALUE=DATE:20240720
DTEND;VALUE=DATE:20240721
SUMMARY:Den otevřených sklepů Hovorany 2024
DESCRIPTION:Nahlédněte do sklepa více než 20 vinařům 20. července od 11.00 hod. Na již 17. ročníku můžete ochutnat nejlepší vína od našich vinařů a&nbsp\;chutnat také mnoho specialit k&nbsp\;jídlu. Večer se můžete těšit na zábavu s&nbsp\;kapelou Paluša Band. V&nbsp\;neděli od 9.00 hod. možnost zakoupení vína ve vinných sklepech.
LOCATION:Hovorany
END:VEVENT
END:VCALENDAR