BEGIN:VCALENDAR
VERSION:2.0
CALSCALE:GREGORIAN
PRODID:-//MyApp//Calendar 1.0//EN
BEGIN:VEVENT
METHOD:PUBLISH
UID:38873@regionalniportaly.cz
DTSTAMP:20260422T075043Z
DTSTART;VALUE=DATE:20240705
DTEND;VALUE=DATE:20240706
SUMMARY:BUTY\, support Roman Dragoun
DESCRIPTION:Kapela BUTY vystoupí v Kyjově v letním kině poprvé.Jako support vystoupí Roman Dragoun&nbsp\;19:00 -&nbsp\;19:30\, ve 21:00&nbsp\;BUTY\, až padnou kluci.
LOCATION:Kyjov
END:VEVENT
END:VCALENDAR