BEGIN:VCALENDAR
VERSION:2.0
CALSCALE:GREGORIAN
PRODID:-//MyApp//Calendar 1.0//EN
BEGIN:VEVENT
METHOD:PUBLISH
UID:38912@regionalniportaly.cz
DTSTAMP:20260424T083509Z
DTSTART;VALUE=DATE:20240303
DTEND;VALUE=DATE:20240304
SUMMARY:Pohádkový karneval Kyjov
DESCRIPTION:POHÁDKOVÝ KARNEVAL&nbsp\;Zveme všechny naše malé i velké kamarády/kamarádky na POHÁDKOVÝ KARNEVAL.★ Pohádkové postavičky v životních velikostech - Masrhall\, šmoula\, Mavis\, Minnie\, mimoň\, král Jelimán\, lev Alex\, Oláfek.★ Světelná show pro děti★ Animační disko program pro celou rodinu★ Malování na obličej★ Soutěže ve zpívání a tancování o pohádkové ceny★ Výrobníky bublin★ Postavičky v životních velikostech★ Soutěž o nejhezčí/nejoriginálnější kostýmKdy? Neděle 3. 3. 2024Kde? Dům kultury KyjovV Kolik? Od 15:00 (KD bude otevřen pro veřejnost od 14:00 pro odbavení vstupenek)Předprodej vstupenek:100Kč / 1osobaNa místě:120 Kč /1 osobaDěti do 2 let VSTUP ZDARMA&nbsp\;Hlavní partner akce...Nejlepší dovozce cukrovinek MP SWEET&nbsp\;
LOCATION:Kyjov
END:VEVENT
END:VCALENDAR