BEGIN:VCALENDAR
VERSION:2.0
CALSCALE:GREGORIAN
PRODID:-//MyApp//Calendar 1.0//EN
BEGIN:VEVENT
METHOD:PUBLISH
UID:39192@regionalniportaly.cz
DTSTAMP:20260424T083325Z
DTSTART;VALUE=DATE:20240701
DTEND;VALUE=DATE:20240823
SUMMARY:Příměstské tábory Bzenec u borového lesa
DESCRIPTION:
LOCATION:Bzenec
END:VEVENT
END:VCALENDAR