BEGIN:VCALENDAR
VERSION:2.0
CALSCALE:GREGORIAN
PRODID:-//MyApp//Calendar 1.0//EN
BEGIN:VEVENT
METHOD:PUBLISH
UID:40338@regionalniportaly.cz
DTSTAMP:20260422T075023Z
DTSTART;VALUE=DATE:20240608
DTEND;VALUE=DATE:20240609
SUMMARY:Při měsíčku na skleničku
DESCRIPTION:Přijďte zažít magii nočních otevřených sklepů pod hvězdnou oblohou v jedinečném areálu Mutěnských Búd&nbsp\;8. 6. 2024. Vinaři v tuto noc otevřou své sklepy a to bude mimořádná příležitost k ochutnání jejich vín. Začátek akce v 18:00 a předpokládaný konec po půlnoci v 01:00.&nbsp\;U vstupu návštěvník obdrží katalog s mapou sklepů a nabízenými víny\, propisku\, tašku a degustační skleničku. Degustační konzumace vína není nijak omezena.&nbsp\;V rámci vstupného návštěvníci obdrží kupóny k odběru vína v hodnotě 3x100 Kč. Víno bude možné zakoupit buď okamžitě anebo další den&nbsp\;v neděli 9. 6. 2024 od 9 do 12 hodin přímo ve vinařství.Doprovodný program akce bude zpívání mezi sklepy od místních pěveckých sborů.&nbsp\;Občerstvení bude zajištěno přímo ve sklepech vinařů.Pokud hledáte pohodlné a útulné ubytování přímo v obci\, najdete širokou škálu ubytovacích zařízení na&nbsp\;oficiálních&nbsp\;stránkách obce Mutěnice. Nebo pokud hledáte specifické ubytování\, můžete vyhledat další nabídky na internetu nebo se podělit o své požadavky v diskuzi&nbsp\;události na facebooku.&nbsp\;Pro ty\, kteří se z nějakého důvodu rozhodnou ubytovat mimo obec\, budou zajištěny taxiky a kontakty na ně zveřejníme před konáním události\, abyste měli jistotu pohodlného přesunu.Areál Mutěnských búd patří mezi jedny z největších komplexů sklepních uliček na Moravě. Na jednom místě je více než 500 vinných sklepů\, často s tradiční výzdobou. Nejtypičtějším prvkem jsou malované žudra tradičními ornamenty maléreček. Hospodaří zde velká spousta malých i velkých vinařů. Každý z nich má svůj osobitý výrobní styl\, svoji filozogfii a náhled na práci ve vinici a ve sklepě. Pokud patříte mezi milovníky vína a zábavy\, neváhejte přijít na naši akci Při měsíčku na skleničku\, kde se s námi můžete potkat\,&nbsp\;pohovořit o víně a degustovat.Akci pořádá Vinařský spolek Mutěnská hora.&nbsp\;Název neseme po nejdominantnější viniční trati v Mutěnském katastru a to i proto\, že jsme většinou malí vinaři vyrábějící vína převážně z vlastních hroznů vypěstovaných v Mutěnicích. Jsme skupinka spíše mladších vinařů a spolek původně vznikl proto\, abychom sdíleli zkušenosti a poznatky.&nbsp\;Na tuto akci vás bude hostit 15 vinařství ve svých sklepech v noční atmosféře pod hvězdnou oblohou. Těšit se můžete nejen na skvělou náladu a kvalitní vína\, ale také domácí občerstvení z rodin vinařů a hudební folklorní program. U nás se nudit nebudete!
LOCATION:Mutěnice
END:VEVENT
END:VCALENDAR