BEGIN:VCALENDAR
VERSION:2.0
CALSCALE:GREGORIAN
PRODID:-//MyApp//Calendar 1.0//EN
BEGIN:VEVENT
METHOD:PUBLISH
UID:40400@regionalniportaly.cz
DTSTAMP:20260424T094212Z
DTSTART;VALUE=DATE:20240607
DTEND;VALUE=DATE:20240608
SUMMARY:Grande Moravia - Tenkrát na západě
DESCRIPTION:🌟Koncert\, co vyvolává u všech tak silné emoce\, až se tají dech.&nbsp\;🌟Koncert\, co všechny dostane na vlnu a zbaví starostí i špatných nálad ...&nbsp\;🌟Koncert znamenitého orchestru GRANDE MORAVIA Ladislava Pavluše a jejich dokonale vybroušený program nejlákavějších FILMOVÝCH MELODIÍ ENNIA MORRICONEHO. Jarní turné již v předprodeji na www.grandemoravia.czpředprodej:únor\, březen\, duben /590Kč&nbsp\;květen /690Kččerven /790Kč
LOCATION:Kyjov
END:VEVENT
END:VCALENDAR