BEGIN:VCALENDAR
VERSION:2.0
CALSCALE:GREGORIAN
PRODID:-//MyApp//Calendar 1.0//EN
BEGIN:VEVENT
METHOD:PUBLISH
UID:40631@regionalniportaly.cz
DTSTAMP:20260424T100608Z
DTSTART;VALUE=DATE:20240517
DTEND;VALUE=DATE:20240518
SUMMARY:Vlasta REDL s kapelou 50 let + BOKOMARA 40 let
DESCRIPTION:Pro předpověď počasí jsme koncert přesunuly do Městského kulturního střediska Kyjov a tím je počet vstupenek omezený .Krásný koncert Vlasty Rédla s kapelou + Bokomara 40 let na scéně\, Luboš Javůrek a Petra Šany Šanclová.
LOCATION:Kyjov
END:VEVENT
END:VCALENDAR