BEGIN:VCALENDAR
VERSION:2.0
CALSCALE:GREGORIAN
PRODID:-//MyApp//Calendar 1.0//EN
BEGIN:VEVENT
METHOD:PUBLISH
UID:40784@regionalniportaly.cz
DTSTAMP:20260424T113541Z
DTSTART;VALUE=DATE:20240628
DTEND;VALUE=DATE:20240629
SUMMARY:SBB + JAZZ Q
DESCRIPTION:Koncert legendární Polské skupiny SBB a legendární České JAZZ Q.Máme se na co těšit
LOCATION:Kyjov
END:VEVENT
END:VCALENDAR