BEGIN:VCALENDAR
VERSION:2.0
CALSCALE:GREGORIAN
PRODID:-//MyApp//Calendar 1.0//EN
BEGIN:VEVENT
METHOD:PUBLISH
UID:40794@regionalniportaly.cz
DTSTAMP:20260424T133407Z
DTSTART;VALUE=DATE:20240409
DTEND;VALUE=DATE:20240410
SUMMARY:Expediční kamera 2024 v Kyjově
DESCRIPTION:Filmový festival outdoorových filmů Expediční kamera opět v Kyjově! A opět s přehlídkou těch nejlepších filmových outdoorových snímků.Čtrnáctý ročník filmového festivalu EXPEDIČNÍ KAMERA v Kyjově nabídne dokumenty o cestování\, dobrodružství i divoké přírodě. Který ze 7 snímků Vás letos zaujme nejvíce?\nTěšit se můžete na film LEZCI s našim nejlepším českým lezcem a olympionikem Adamem Ondrou\, který vám představí mladého lezce Pepu Šindela a společně s ním se bude snažit o přelez jedné z nejtěžších skalních cest v oblasti Krpcovo na Slovensku. Kromě filmu s Adamem uvidíte JAVARI\, film o kmeni žijícím na peruánsko-brazilské hranici. Expediční kamera vám dále nabídne snímek s českým kajakářem Vavřincem Hradilkem – Expedice Ganga: Vávrova výzva\, nebo italský snímek Pioneri o přechodu šesti hlavních hor Pale di San Martino během jediného dne. ZTRACENÉ MOMENTY je amatérsko autentický příběhem páru z britského Yorkshire\, který se vydá do Norska na svou první horskou cykloturistiku. Kajakáři si ulahodí u filmu OBJEVOVÁNÍ PATAGONSKÉ RIO BLANCO a u snímku NÁSLEDOVÁNÍ SPRÁVNÉ CESTY se dozvíme\, zda vášeň ke sportu může přinést rovnováhu a naplnění.\n \nKino Panorama v Kyjově\n9.4.2024 od 18:00\nvstupné: 150 Kč/os\, děti do 15 let ZDARMA\n 
LOCATION:Kyjov
END:VEVENT
END:VCALENDAR