BEGIN:VCALENDAR
VERSION:2.0
CALSCALE:GREGORIAN
PRODID:-//MyApp//Calendar 1.0//EN
BEGIN:VEVENT
METHOD:PUBLISH
UID:41020@regionalniportaly.cz
DTSTAMP:20260424T145820Z
DTSTART;VALUE=DATE:20240809
DTEND;VALUE=DATE:20240810
SUMMARY:Petra JANŮ AMSTERDAM
DESCRIPTION:KRÁSNÝ KONCERT PETRY JANŮ S KAPELOU
LOCATION:Kyjov
END:VEVENT
END:VCALENDAR