BEGIN:VCALENDAR
VERSION:2.0
CALSCALE:GREGORIAN
PRODID:-//MyApp//Calendar 1.0//EN
BEGIN:VEVENT
METHOD:PUBLISH
UID:41253@regionalniportaly.cz
DTSTAMP:20260422T060029Z
DTSTART;VALUE=DATE:20240525
DTEND;VALUE=DATE:20240526
SUMMARY:Jarní putování vinnými sklepy Čejč 2024
DESCRIPTION:Jarní putování vinnými sklepy Čejč 2024&nbsp\;Přátelé dobrého vína a zábavy!&nbsp\;Zahrádkáři z Čejče spolu s vinaři vás srdečně zvou k návštěvě naší obce. Přijďte v sobotu 25. května 2024 a budete přivítáni v překrásném areálu vinných sklepů Pod Búdama. Od 13 do 20 hodin je právě pro vás připraveno jarní putování vinnými sklepy v Čejči. V nejméně 15 vinných sklepech budete mít možnost ochutnat to nejlepší od čejčských vinařů. V každém sklepě bude připraveno minimálně 7 vzorků\; ale celkový počet bývá vyšší než 250 vzorků.&nbsp\;V průběhu dne k dobré pohodě přispěje mužský pěvecký sbor z Dambořic\, který zazpívá u každého sklepa. Po skončení degustování od 20 hodin začíná ve stejném prostoru zábava s&nbsp\;Bruce entertainment.Přijďte si užít jarní&nbsp\;noc s&nbsp\;dobrým vínem a živou hudbou.&nbsp\;&nbsp\;&nbsp\;&nbsp\;&nbsp\;&nbsp\;&nbsp\;&nbsp\;&nbsp\;&nbsp\;&nbsp\; Ve vstupném je obsaženo: ➢&nbsp\;&nbsp\; plánek areálu se seznamem vinařů.➢&nbsp\;&nbsp\; degustační sklenička➢&nbsp\;&nbsp\; propiska s taštičkou na krk➢&nbsp\;&nbsp\; oprávnění volné degustace v označených sklepech➢&nbsp\;&nbsp\; vstup na hudební zábavuV&nbsp\;neděli 26. 5. 2024 od 9:00 je možnost nákupu vína od vinařů.Co je u nás navíc? Parkování a možnost stanování s hygienickým zázemím přímo v areálu zdarma. V našem rodinném a velmi příjemném prostředí bez veřejného provozu se občerstvíte. Těšit se můžete na foodtrucky\, kávu\, nealko. Vše zajišťuje cateringová firma. Ve sklepech je k dispozici degustační sousto (chléb\, sýr\, voda).Ubytování doporučujeme zajistit v Čejči a okolních obcích Hovorany\, Čejkovice\, Mutěnice\, Kobylí\, co nejdříve.Potřebujete poradit? +420&nbsp\;739&nbsp\;032 901FB Zahrádkáři a vinaři Čejč\, www.cejc.cz &nbsp\;
LOCATION:Čejč
END:VEVENT
END:VCALENDAR