BEGIN:VCALENDAR
VERSION:2.0
CALSCALE:GREGORIAN
PRODID:-//MyApp//Calendar 1.0//EN
BEGIN:VEVENT
METHOD:PUBLISH
UID:41694@regionalniportaly.cz
DTSTAMP:20260424T082358Z
DTSTART;VALUE=DATE:20240705
DTEND;VALUE=DATE:20240706
SUMMARY:Noční otevřené sklepy v Šardicích
DESCRIPTION:Šardičtí vinaři zvou všechny příznivce dobrého vína. Bude připraveno téměř 200 vzorků vín jak hobby vinařů\, tak profesionálních producentů vín\, v 15 sklepech. Každý nabídne to nejlepší co má\, pohoštění ve sklepech samozřejmostí. Akce se koná bez ohledu na počasí.Pokud neseženete ubytování\, je možné postavit stan přímo v areálu sklepů U hřiště.Cena vstupenek na místě 600 Kč\, předprodej 500 Kč\, využijte zvýhodnění v předprodeji. Výdej vstupenek z předprodje od 16:00\, volný prodej vstupenek od 17:00 do 22:00\, vše v prostorách Obecní haly U Orla.Vstupné zahrnuje vstup na akci\, mapku akce\, skleničku\, tužku\, volnou ochutnávku vín ve všech sklepech a 2 kupony na odběr vína (každý v hodnotě 100 Kč).
LOCATION:Šardice
END:VEVENT
END:VCALENDAR