BEGIN:VCALENDAR
VERSION:2.0
CALSCALE:GREGORIAN
PRODID:-//MyApp//Calendar 1.0//EN
BEGIN:VEVENT
METHOD:PUBLISH
UID:42916@regionalniportaly.cz
DTSTAMP:20260424T145732Z
DTSTART;VALUE=DATE:20241125
DTEND;VALUE=DATE:20241126
SUMMARY:Vysavač
DESCRIPTION:autor: Patrik Hartlrežie: Patrik Hartlprodukce: Studio DVAhraje: Bob KleplBohumil Klepl v&nbsp\;jedinečné komediální ONE MAN SHOW o zamilovaném uklízeči z&nbsp\;nákupního centra.Máte chuť nechat si vysát každodenní starosti z&nbsp\;hlavy? Přijďte se podívat na tuto romantickou komedii plnou vtipných eskapád\, neuvěřitelných hrdinských kousků\, trapných nárazů na držku a snění.Patrik Hartl\, autor hitu Hvězda s Evou Holubovou a režisér nejúspěšnější české one man show Caveman\, představuje výjimečný komediální talent Bohumila Klepla v&nbsp\;osvěžujícím milostném příběhu\, který vás zaručeně příjemně naladí.&nbsp\;
LOCATION:Bzenec
END:VEVENT
END:VCALENDAR