BEGIN:VCALENDAR
VERSION:2.0
CALSCALE:GREGORIAN
PRODID:-//MyApp//Calendar 1.0//EN
BEGIN:VEVENT
METHOD:PUBLISH
UID:43643@regionalniportaly.cz
DTSTAMP:20260424T141934Z
DTSTART;VALUE=DATE:20240817
DTEND;VALUE=DATE:20240818
SUMMARY:Otevřené sklepy VINAŘSTVÍ JOSEF DUFEK
DESCRIPTION:Přátelé\,přijměte naše srdečné&nbsp\;pozvání na 5. ročník našich Otevřených sklepů\,&nbsp\;který se bude tradičně konat třetí týden v srpnu\, tedy 17. 8. 2024.Letošní ročník bude obzvlášť výjimečný\, neboť s námi oslavíte&nbsp\;dvousetleté výročí&nbsp\;vinaření v naší rodině.&nbsp\;Přijďte s námi oslavit totoneskutečné jubileum a současně 30 let od vzniku vinařství.Prohlídkové jízdy vinicemi\, degustace 150 druhů vín\, včetně archivůa sektů\, francouzské sýry\, domácí speciality\, cimbálová muzika\, po dobu trvání akce sleva na celý sortiment vín\, to je jen část z toho co na Vás čeká.&nbsp\;V ceně vstupného je sklenice\, katalog\, neomezená konzumace vína\, návštěva sklepa z roku 1540 a mnohé další.Zakoupením vstupenky se zapojíte do slosování o 3 kartony archivních vín.V předpodeji je cena vstupenky 600 Kč\, na místě 700 Kč.&nbsp\;Těšíme se na Vaši náštěvu!&nbsp\;Kolektiv Vinařství Josef Dufek&nbsp\;
LOCATION:Svatobořice-Mistřín
END:VEVENT
END:VCALENDAR