BEGIN:VCALENDAR
VERSION:2.0
CALSCALE:GREGORIAN
PRODID:-//MyApp//Calendar 1.0//EN
BEGIN:VEVENT
METHOD:PUBLISH
UID:43736@regionalniportaly.cz
DTSTAMP:20260424T152439Z
DTSTART;VALUE=DATE:20240810
DTEND;VALUE=DATE:20240811
SUMMARY:Festival Na Hnojišti
DESCRIPTION:Multi-žánrový hudební festival pod širým nebem.Zveme Vás do Muzea U Kronikářa\, kde proběhne 10. srpna tohoto roku čtvrtý ročník multi-žánrového hudebního Festivalu Na Hnojišti.Opět jsme oslovili kapely z blízkého i širého okolí\, tentokrát se můžete těšit na 5 hudebních těles.Jak to bude probíhat?Začátek v sobotu 10. srpna\, brány areálu se otevřou ve 13:30 v Muzeu U Kronikářa (Ratíškovice\, Dědina č.p. 83).Vstupné 250 Kč za osobu\, zlevněné vstupné pro děti od 10 do 15 let 150 Kč\,&nbsp\;děti do 10 let zdarmaVemte s sebou deky na polehávání nebo si sedněte na připravené lavičky a palety a pak už si budete jen užívat živou hudební produkci.Pro nejmenší děti je připraveno pískoviště a malý domeček s hračkami.Doplnění tekutin - čepované pivo\, rozlévané víno místního vinaře\, nealko + grilované speciality\, pop-cornNávštěva toalet je zajištěna díky mobilnímu WC\, v těsné blízkosti je možnost využít Hospodu Na SmykuBudeme šetrní k životnímu prostředí - doporučujeme přinést s sebou vlastní krýgl\, skleničku nebo panáka - na pivo\, víno\, tvrdý alkohol a nealko - nejlépe z tlustého odolného materiálu (sklo\, plast\, dřevo\, keramika\, plech\, ...)\, který dobře odolá nárazům při tanci a veselému skákání.Nemáme rádi jednorázové nádobí. Odpadky u nás nejsou vítány - co si přinesete\, to si i domů odnesete - děkujeme\, že nezahlcujete naši jedinou popelnici.Budeme taktéž ohleduplní k našim sousedům. Akce se koná uprostřed vesnice - ve 23:00 je tedy potřeba\, abyste se v klidu a tichosti odebrali do svých domovů nebo do přilehlých restauračních zařízeníDěkujeme za respektování našich pravidel. Jen díky nim bude možno festival v případě jeho zdárného průběhu realizovat i příští rok.Těší se na Vás - Krasospolek a přátelé&nbsp\;
LOCATION:Ratíškovice
END:VEVENT
END:VCALENDAR