BEGIN:VCALENDAR
VERSION:2.0
CALSCALE:GREGORIAN
PRODID:-//MyApp//Calendar 1.0//EN
BEGIN:VEVENT
METHOD:PUBLISH
UID:43848@regionalniportaly.cz
DTSTAMP:20260422T080436Z
DTSTART;VALUE=DATE:20240906
DTEND;VALUE=DATE:20240907
SUMMARY:Ratíškovský festiválek + mini food festival 2024
DESCRIPTION:Ratíškovský festiválek je opět tady! &nbsp\;Letos se můžete těšit na vystoupení účastníka Survivor 2024 a zpěváka Sebastiana\, Voxela\, kapelu Trocha Klidu nebo písničkáře Tomáše Bočka. Krom skvělé muziky bude součástí také MINI FOOD FESTIVAL\, který nabídne širokou paletu chutí. Přijďte zakončit léto skvělou muzikou a vynikajícím jídlem!&nbsp\;Vstupné:190 Kč v předprodeji&nbsp\;300 Kč na místě&nbsp\;(děti do 12 let zdarma)Vystoupí:&nbsp\;SebastianVoxel &amp\; spol.&nbsp\;Trocha KliduTomáš BočekPřijďte ochutnat:&nbsp\;mexické specialitygrilované specialitypalačinkyvínočepované alko i nealkoa spoustu dalšího...
LOCATION:Ratíškovice
END:VEVENT
END:VCALENDAR