BEGIN:VCALENDAR
VERSION:2.0
CALSCALE:GREGORIAN
PRODID:-//MyApp//Calendar 1.0//EN
BEGIN:VEVENT
METHOD:PUBLISH
UID:44210@regionalniportaly.cz
DTSTAMP:20260424T170101Z
DTSTART;VALUE=DATE:20240728
DTEND;VALUE=DATE:20240729
SUMMARY:Zahradníkův rok
DESCRIPTION:Na úpatí malebného kopečku žije zahradník (Oldřich Kaiser) se svojí ženou\, kteří se starají o své malé zahradnictví. Jejich idylický život je narušen\, když se na nedalekém zámku chystá usadit nový majitel\, který chce přetvořit krajinu podle svých představ. Když zahradnictví brání jeho plánům\, spustí se sled bizarních událostí. Nový majitel nejprve vytvoří plot s žiletkovým drátem a zavře příjezdovou cestu. Postupně přidává ve svých činech na intenzitě\, aby dosáhl svých cílů. Zahradník se však nevzdává a snaží se bránit svůj domov. Když se policie i starostka postupně utopí ve své vlastní byrokracií\, zahradník se rozhodně vzít osud do vlastních rukou.&nbsp\;Nový film&nbsp\;Jiřího Havelky\, balancující na hraně bizáru\, absurdna a tragikomedie je inspirován skutečným příběhem a stejnojmenným literárním dílem od&nbsp\;Karla Čapka.
LOCATION:Ratíškovice
END:VEVENT
END:VCALENDAR