BEGIN:VCALENDAR
VERSION:2.0
CALSCALE:GREGORIAN
PRODID:-//MyApp//Calendar 1.0//EN
BEGIN:VEVENT
METHOD:PUBLISH
UID:44592@regionalniportaly.cz
DTSTAMP:20260424T114425Z
DTSTART;VALUE=DATE:20241006
DTEND;VALUE=DATE:20241007
SUMMARY:Divadlo DONDI - Růžové brýle
DESCRIPTION:Růžové brýle - S. Bigelow a J. GoldbergZcela nové divadlo bývalých herců Slováckého divadla Uherské Hradiště představí strhující příběh dvou znepřátelených sousedek\, majitelky irské hospody Lady a majitelky židovského lahůdkářství Rose\, které se snaží dát dohromady malá holka Peg. Podatří se jí spojit dva různé světy\, které dělí jenom malá ulička?Jde o vtipný\, chytrý a občas i dojemný příběh\, který nabízí krásné herecké příležitosti. Svou intimitou i napínavostí vás dokáže vtáhnout do děje.Délka představení 150 min. s přestávkou&nbsp\;
LOCATION:Ratíškovice
END:VEVENT
END:VCALENDAR