BEGIN:VCALENDAR
VERSION:2.0
CALSCALE:GREGORIAN
PRODID:-//MyApp//Calendar 1.0//EN
BEGIN:VEVENT
METHOD:PUBLISH
UID:44986@regionalniportaly.cz
DTSTAMP:20260424T114453Z
DTSTART;VALUE=DATE:20250118
DTEND;VALUE=DATE:20250119
SUMMARY:Zimní Metla fest 2
DESCRIPTION:Punk hardcore metalová nálož rozdrtí po druhé Kino klub v líbezné moravské dědině Svatobořice-Mistřín\, ideální možnost vypogovat nabrané kila po sváteční žranici 18.1.2025.N.V.Ú. /punk/Street Machine /hardcore/Glejt /punk/Landscape of shadows /metalcore/DMC /death metal/Hlavní jistič /punk/Počet lístků omezen!&nbsp\;
LOCATION:Svatobořice-Mistřín
END:VEVENT
END:VCALENDAR