BEGIN:VCALENDAR
VERSION:2.0
CALSCALE:GREGORIAN
PRODID:-//MyApp//Calendar 1.0//EN
BEGIN:VEVENT
METHOD:PUBLISH
UID:45680@regionalniportaly.cz
DTSTAMP:20260422T080446Z
DTSTART;VALUE=DATE:20241027
DTEND;VALUE=DATE:20241028
SUMMARY:Strašidelná diskotéka pro děti
DESCRIPTION:Strašidelná diskotéka pro děti&nbsp\;Dovolujeme svolat všechny naše malé i velké čaroděje\, ježibaby\, černokněžníky a strašidýlka na tu největší strašidelnou diskotéku!&nbsp\;Pro děti připravený speciální diskoprogram\, který doprovodí naše nové strašidla ze známých pohádek★ Animační diskoprogram&nbsp\;★ Exclusivní pohádkové postavičky v životních velikostech\, které v ČR téměř nezahlédnete WEDNESDAY a FRANKENSTEIN★ Strašidelný obchůdek s hračkami&nbsp\;★ Mimo jiné se můžete těšit na další kamarády jako jsou UPÍR\, VAMPIRÍNA\, MIMOŇ a další strašidla&nbsp\;★ Tematické pohádkové dekorace ve stylu hotelu transylvánie★ DJ Drákula&nbsp\;★ Budeme soutěžit také o nejlepší kostým(kostým není podmínkou zúčastnění\, ale výhodou)★ Malování na obličej★ Výrobníky bublin&nbsp\;★ Tematický fotokoutek&nbsp\;★ Občerstvení pro děti&nbsp\;
LOCATION:Svatobořice-Mistřín
END:VEVENT
END:VCALENDAR