BEGIN:VCALENDAR
VERSION:2.0
CALSCALE:GREGORIAN
PRODID:-//MyApp//Calendar 1.0//EN
BEGIN:VEVENT
METHOD:PUBLISH
UID:46094@regionalniportaly.cz
DTSTAMP:20260424T151630Z
DTSTART;VALUE=DATE:20241129
DTEND;VALUE=DATE:20241130
SUMMARY:HRADIŠŤAN & Jiří Pavlica
DESCRIPTION:Jiří Pavlica&nbsp\;&amp\;&nbsp\;HRADIŠŤAN&nbsp\;je ojedinělé seskupení s vysokou uměleckou i interpretační úrovní\, nezvykle širokým žánrovým záběrem a netradičním repertoárem\, který v počátcích vycházel zejména z&nbsp\;lidové tradice.&nbsp\;
LOCATION:Dubňany
END:VEVENT
END:VCALENDAR