BEGIN:VCALENDAR
VERSION:2.0
CALSCALE:GREGORIAN
PRODID:-//MyApp//Calendar 1.0//EN
BEGIN:VEVENT
METHOD:PUBLISH
UID:46271@regionalniportaly.cz
DTSTAMP:20260424T131233Z
DTSTART;VALUE=DATE:20241115
DTEND;VALUE=DATE:20241116
SUMMARY:Jazz 2024
DESCRIPTION:Tradiční listopadové jazzování. Tentokrát se Vám spolu s Jaromírem Helešicem - bicí\, mj. rodákem z Mikulčic&nbsp\;a Zdeňkem Fišerem - elektrická&nbsp\;kytara\,&nbsp\;představí:&nbsp\;Lee Andrew Davison z americké Oklahomy. V roce 1991 se přestěhoval do Prahy.&nbsp\;Společně s instrumentalisty Radimem Linhartem\, Jaroslavem Šindlerem a Vítem Fialou&nbsp\;v&nbsp\;roce 1996 poprvé představili originální pořad spirituálů a gospelů.Jeho jedinečný hlas vás provede historií\, a zároveň probudí všechny vaše emoce.&nbsp\;Objevte kouzlo jazzu\, který položil základy rockové a populární hudby.&nbsp\;Luděk Havel - vynikající pražský pianista\, zpěvák. Spolupracoval s mnoha hudebními osobnostmi.Např. s&nbsp\; jazzovým&nbsp\;zpěvákem&nbsp\;&nbsp\;Janem&nbsp\;Smigmatorem\, doprovázel Hanu Hegerovou\, Evu Pilarovou\,&nbsp\;Karla Hálu\, Karla Černocha a zcela vyjímečně i Karla Gotta.&nbsp\;&nbsp\;Objevte kouzlo jazzu\, který položil základy rockové a populární hudby. Objevte slzy radosti….
LOCATION:Ratíškovice
END:VEVENT
END:VCALENDAR