BEGIN:VCALENDAR
VERSION:2.0
CALSCALE:GREGORIAN
PRODID:-//MyApp//Calendar 1.0//EN
BEGIN:VEVENT
METHOD:PUBLISH
UID:46826@regionalniportaly.cz
DTSTAMP:20260424T163217Z
DTSTART;VALUE=DATE:20241103
DTEND;VALUE=DATE:20241104
SUMMARY:After Party
DESCRIPTION:Drama | 89 minutSnímek uvádíme&nbsp\;exkluzivně v předpremiéře.Režie: Vojtěch StrakatýHrají: Eliška Bašusová\, Anna Tomanová\, Jan Zadražil\, Monika Zoubková ad.Příběh filmu se odehrává během jednoho dne\, kdy mladá studentka Jindřiška zjistí\, že se její otec dostal do obrovských dluhů. Po nočním tahu se probouzí s kocovinou do domu\, kde už zasahují exekutoři\, zabavují majetek a pátrají po jejím otci\, jehož mají v hledáčku také vymahačů dluhů. Její dosud bezstarostný život se náhle obrací vzhůru nohama a spolu s nejlepší kamarádkou se musí vypořádat s nečekanou krizí. Jindřiška stojí před těžkým rozhodnutím – věřit a podpořit svého otce\, nebo chránit sebe\, dokud je čas.Civilně pojatý titul debutujícího Vojtěcha Strakatého rázně a sebevědomě zachycuje hlas mladé generace a odráží její současné obavy a problémy\, kterým čelí. Je metaforou ostrého přechodu do dospělosti a převzetí povinnosti a nepříjemně se ptá\, na jakých základech stojí naše pohodlné konzumní životy.
LOCATION:Kyjov
END:VEVENT
END:VCALENDAR