BEGIN:VCALENDAR
VERSION:2.0
CALSCALE:GREGORIAN
PRODID:-//MyApp//Calendar 1.0//EN
BEGIN:VEVENT
METHOD:PUBLISH
UID:46827@regionalniportaly.cz
DTSTAMP:20260424T163111Z
DTSTART;VALUE=DATE:20241102
DTEND;VALUE=DATE:20241103
SUMMARY:Amerikánka
DESCRIPTION:Drama\, Fantasy | 110 minutPo projekci následuje beseda&nbsp\;s režisérem Viktorem Taušem.Režie: Viktor TaušHrají: Pavla Beretová\, Julie Šoucová\, Klára Kitto\, Lucie Žáčková\, Klára Melíšková\, Tomas Sean Pšenička\, Magdaléna Borová\, Vladimír Javorský ad.Příběh o holce\, která přestala utíkat. Audiovizuálně skvostná a nebývale fantaskní a dynamická pouť napříč děcákem\, pěstounskou péčí a pasťákem.Amerikánka vypráví svůj příběh netradičním stylizovaným jazykem\, který připomíná surrealistický gejzír plný barev\, života a snů. Byť ve filmu není jediná realistická scéna\, intenzivní pocit reality mysl diváka ani na chvíli neopustí. Nic není skutečné\, a přesto je úplně všechno\, co na plátně uvidíte\, skutečné. Příběh. Postavy. Jizvy. Všechno je autentické. Děti zde hrají opravdové postavy opuštěných dětí\, a jelikož jsou samy převážně z dětských domovů\, plní příběhy svých postav vlastními osudy.Viktor Tauš příběh Amerikánky nejprve inscenoval v divadle Jatka 78\, kde ji vidělo přes 100.000 diváků. Amerikánka je zároveň dívka\, kterou Viktor Tauš potkal v 90. letech\, kdy sám žil na ulici jako bezdomovec. "Byli jsme součástí první generace obětí svobody. Lidé bez domova\, to byly tenkrát především tisícovky dětí\, které vyrůstaly samy\, bez rodičů\, v socialistických dětských domovech."
LOCATION:Kyjov
END:VEVENT
END:VCALENDAR