BEGIN:VCALENDAR
VERSION:2.0
CALSCALE:GREGORIAN
PRODID:-//MyApp//Calendar 1.0//EN
BEGIN:VEVENT
METHOD:PUBLISH
UID:46829@regionalniportaly.cz
DTSTAMP:20260424T102703Z
DTSTART;VALUE=DATE:20241102
DTEND;VALUE=DATE:20241103
SUMMARY:Ecstasy of Saint Theresa + HRTL (koncert)
DESCRIPTION:▪️Kinokavárna\, místní vinaři ▪️ kyjovský koktejlový Yalla bar▪️ Pivovar MazákThe Ecstasy of Saint TheresaKultovní a milovaná The Ecstasy of Saint Theresa letos hlásí velký návrat\, v rámci něhož zavítají i k nám na Panoramku. Jan P. Muchow a Kateřina Winterová jsou mistry atmosférické elektronické hudby a experimentů s hudebními žánry\, nástroji a zvukem.&nbsp\;HRTLO afterparty se postará Leoš Hort alias HRTL je špičkový performer na modulární syntezátor a zakladatel brněnského kazetového vydavatelství Bükko Tapes.&nbsp\;V temném kinosále se skvělou akustikou půjde o&nbsp\;mimořádný zážitek.
LOCATION:Kyjov
END:VEVENT
END:VCALENDAR