BEGIN:VCALENDAR
VERSION:2.0
CALSCALE:GREGORIAN
PRODID:-//MyApp//Calendar 1.0//EN
BEGIN:VEVENT
METHOD:PUBLISH
UID:46830@regionalniportaly.cz
DTSTAMP:20260424T113654Z
DTSTART;VALUE=DATE:20241103
DTEND;VALUE=DATE:20241104
SUMMARY:Herecký workshop pro děti od 7 let
DESCRIPTION:Chcete\, aby si vaše děti vyzkoušely něco nového? Zajímá je svět za a před kamerou? Pak zde budete mít k dispozici techniku a zkušené lektory\, kteří je seznámí se základy herectví.Lektoři z projektu Free cinema\, kteří kurz povedou\, mají bohaté zkušenosti\, proto se nebojte a přihlaste se také.Prosíme účastníky kurzu aby si s sebou vzali nabitý telefon s dostatečným místem na uložišti.Místo konání: Městská knihovna KyjovDOPORUČUJEME ZAKOUPIT VSTUPENKU V PŘEDPRODEJI.Kapacita omezenáCena: 250&nbsp\;Kč/dítěDélka kurzu:&nbsp\;3\,5 hodinyObčerstvení:&nbsp\;Drobné občerstvení zajištěno&nbsp\;www.kyjograf.czV případě dotazů nás neváhejte kontaktovat 733644494 alena.truschingerova@kyjograf.cz
LOCATION:Kyjov
END:VEVENT
END:VCALENDAR