BEGIN:VCALENDAR
VERSION:2.0
CALSCALE:GREGORIAN
PRODID:-//MyApp//Calendar 1.0//EN
BEGIN:VEVENT
METHOD:PUBLISH
UID:46831@regionalniportaly.cz
DTSTAMP:20260424T163624Z
DTSTART;VALUE=DATE:20241102
DTEND;VALUE=DATE:20241103
SUMMARY:Ještě nejsem\, kým chci být
DESCRIPTION:Dokument | 90 minutLibuše Jarcovjáková je legenda světové fotografie a nespoutaná žena\, která se vzepřela všem konvencím. Její život je mozaikou fascinujících setkání a divokých příběhů – od drsného undergroundu komunistického Československa\, přes exkluzivní focení pro módní špičky v Tokiu\, až po dramatický útěk do západního Berlína\, kde byla svědkem pádu Železné opony.Z tisíců analogových fotografií a stránek osobních deníků vznikl v režii Kláry Tasovské formálně jedinečný dokument\, který nadchl publikum na festivalu Berlinale."Chtěli jsme především vytvořit vtahující atmosféru a navodit pocit co nejplynulejšího toku obrazů\, aby divák zapomněl\, že sleduje fotky…"
LOCATION:Kyjov
END:VEVENT
END:VCALENDAR