BEGIN:VCALENDAR
VERSION:2.0
CALSCALE:GREGORIAN
PRODID:-//MyApp//Calendar 1.0//EN
BEGIN:VEVENT
METHOD:PUBLISH
UID:46832@regionalniportaly.cz
DTSTAMP:20260424T131458Z
DTSTART;VALUE=DATE:20241101
DTEND;VALUE=DATE:20241102
SUMMARY:Rok vdovy
DESCRIPTION:Po projekci následuje beseda s&nbsp\;režisérkou Veronikou Liškovou\,&nbsp\;scenáristou Eugenem Liškou&nbsp\;a představitelkou&nbsp\;hlavní role Pavlou Beretovou.Drama | 109 minutRežie: Veronika Lišková\, scénáře Eugen LiškaHrají: Pavla Beretová\, Julie Šoucová\, Zuzana Kronerová\, Tomáš Bambušek\, Lucie Žáčková ad.Tlumočnice Petra (Pavla Beretová) se vlivem tragické události musí smířit s tím\, že se z ní ve čtyřiceti letech stala vdova. Brzy zjistí\, že zármutek není jedinou výzvou\, které musí čelit. Přidává se starost o dospívající dceru (Julie Šoulcová) a tlak ze strany manipulativní tchyně (Zuzana Kronerová). A pak tu je celá byrokratická mašinerie\, která smrtí člověka ožívá: hypotéky\, půjčky\, nájmy\, poplatky\, nekonečné dědické řízení. Mezi troskami svého života však Petra krok za krokem nachází odvahu k novému začátku…Celovečerní film natočený na motivy skutečných událostí je křehkou a dojemnou studií procesu truchlení v našem současném světě. Film Rok vdovy je celovečerním hraným debutem dokumentaristky Veroniky Liškové (Danielův svět\, Návštěvníci)\, která k jeho tématu říká: "Chtěli jsme\, aby Rok vdovy přinesl na plátna kin silný realistický příběh ze současnosti\, který bude citlivě hovořit o věcech\, na které naše společnosti raději nemyslí. Příběh nejen o ztrátě životního partnera a truchlení\, ale hlavně o novém začátku a síle žít svůj život sám či sama za sebe. A také o tom\, že je nutné nalézt vlastní vnitřní svobodu a nezávislost\, abychom ji dokázali dopřát také našim blízkým."
LOCATION:Kyjov
END:VEVENT
END:VCALENDAR