BEGIN:VCALENDAR
VERSION:2.0
CALSCALE:GREGORIAN
PRODID:-//MyApp//Calendar 1.0//EN
BEGIN:VEVENT
METHOD:PUBLISH
UID:46835@regionalniportaly.cz
DTSTAMP:20260424T082410Z
DTSTART;VALUE=DATE:20241101
DTEND;VALUE=DATE:20241102
SUMMARY:Výjimečný stav
DESCRIPTION:Po projekci následuje beseda s&nbsp\;režisérem Janem Hřebejkem&nbsp\;a&nbsp\;scenáristou Milanem Tesařem.Komedie | 111 minutRežie: Jan Hřebejk\, scénář &amp\; autor stejnojmenné divadelní hry: Milan TesařHrají: Ondřej Vetchý\, Tatiana Dyková\, Jordan Haj ad.Rozhlasový zpravodaj na Blízkém východě Karel Beran přijíždí na základě anonymu na otočku soukromě do Prahy. V Kamburu\, který neprofesionálně opustil\, však právě ve stejnou chvíli vypuká revoluce. Dostát povinnosti reportéra donutí zkušeného profesionála k mystifikačním reportážím\, kdy vřavu arabské revoluce simuluje na kuchyňských spotřebičích ve vinohradském bytě.Rozkročen mezi řešením osobního problému a povinností zpravodajsky informovat posluchače se však chytne do vlastní pasti. Když se na základě vysoce sledovaných příspěvků rozhodně Český rozhlas poslat za zpravodajem podpůrný tým\, ocitne se před neřešitelnou volbou: buď se přizná k mediálnímu podvodu\, nebo musí předstírat vlastní smrt…
LOCATION:Kyjov
END:VEVENT
END:VCALENDAR