BEGIN:VCALENDAR
VERSION:2.0
CALSCALE:GREGORIAN
PRODID:-//MyApp//Calendar 1.0//EN
BEGIN:VEVENT
METHOD:PUBLISH
UID:46836@regionalniportaly.cz
DTSTAMP:20260424T103618Z
DTSTART;VALUE=DATE:20241103
DTEND;VALUE=DATE:20241104
SUMMARY:Život k sežrání
DESCRIPTION:Loutkový\, Rodinný | 80 minutRežie: Kristina DufkováDvanáctiletý Ben nadevše miluje nejen muziku\, ale i jídlo a vaření. A je to na něm taky znát. Když se ale jednoho dne zabouchne do spolužačky Klárky\, rozhodne se s kily navíc zatočit. Na cestě za vysněnou postavou i Klárčiným srdcem mu pomáhají hlavně kamarádi z kapely a starostlivá maminka…Úsměvný loutkový snímek režisérky Kristiny Dufkové natočený podle knižního bestselleru Mikaëla Olliviera s humorem za doprovodu nadupaných songů sleduje první strasti\, lásky i nástrahy dospívání.
LOCATION:Kyjov
END:VEVENT
END:VCALENDAR