BEGIN:VCALENDAR
VERSION:2.0
CALSCALE:GREGORIAN
PRODID:-//MyApp//Calendar 1.0//EN
BEGIN:VEVENT
METHOD:PUBLISH
UID:46837@regionalniportaly.cz
DTSTAMP:20260424T131609Z
DTSTART;VALUE=DATE:20241101
DTEND;VALUE=DATE:20241103
SUMMARY:Filmový festival Kyjograf 2024 | Celofestivalová vstupenka
DESCRIPTION:Po rozkliknutí tlačítka "Koupit vstupenku" se nabídne přehled akreditací.Kyjov již pošesté ožije filmem. Kyjograf nabídne výrazné české snímky\, besedy s tvůrci\, vlastní kavárnu a bar\, DJs\, tvořivé dílny nebo koncert kultovních The Ecstasy of Saint Theresa v kinosále.&nbsp\;&nbsp\;Přehled celofestivalových vstupenek✱&nbsp\;Celofestivalová vstupenka KOMPLET &nbsp\;(včetně koncertu The Ecstasy of Saint Theresa) ~ 700 Kč/600 Kč - Student + ZTP/P)✱ Celofestivalová vstupenka&nbsp\; FILMOVÁ (bez koncertu)&nbsp\;~ 450 Kč/400 Kč - Student + ZTP/P✱ Celofestivalová vstupenka MECENÁŠSKÁ &nbsp\;(akreditace komplet obohacená dobrým skutkem) ~ 1222 Kč&nbsp\;&nbsp\;Pokud chcete během jednoho víkendu zhlédnout pozoruhodné tuzemské filmy\, besedovat\, být v obraze a ochutnat místní speciality\, dorazte na Panoramku.Kompletní program&nbsp\;www.kyjograf.cz&nbsp\;
LOCATION:Kyjov
END:VEVENT
END:VCALENDAR