BEGIN:VCALENDAR
VERSION:2.0
CALSCALE:GREGORIAN
PRODID:-//MyApp//Calendar 1.0//EN
BEGIN:VEVENT
METHOD:PUBLISH
UID:47554@regionalniportaly.cz
DTSTAMP:20260424T181508Z
DTSTART;VALUE=DATE:20250520
DTEND;VALUE=DATE:20250521
SUMMARY:Jenom Život
DESCRIPTION:Veronique Olmi: Jenom životBystrá komedie&nbsp\;se špičkovými dialogy dává vyniknout dvěma hereckým osobnostem. Manželé&nbsp\;Igor Bareš a Antonie Talacková&nbsp\;se potkávají na jednom jevišti\, kde rozehrají napínavý příběh o jednom setkání „po letech“.&nbsp\; Sam a Marion totiž bývali manželé.Je večer a do Marionina bytu nečekaně vpadne promoklý a zraněný Sam\, více jak deset let se neviděli.&nbsp\; Počáteční starost o Samovo zdraví i fascinující setkání po takové době rychle vystřídá hašteření těch dvou\, které zřejmě kdysi bylo důvodem k&nbsp\;jejich rozchodu. Celý tento příběh ale končí naprosto dojemným\, až bizarním happy endem.režie&nbsp\;a překlad&nbsp\;Jaromír JanečekHrají: Marion&nbsp\;Antonie Talacková&nbsp\; Sam&nbsp\;Igor Bareš... ještě někdo&nbsp\;&nbsp\;Michal Hnátek
LOCATION:Dubňany
END:VEVENT
END:VCALENDAR