BEGIN:VCALENDAR
VERSION:2.0
CALSCALE:GREGORIAN
PRODID:-//MyApp//Calendar 1.0//EN
BEGIN:VEVENT
METHOD:PUBLISH
UID:47740@regionalniportaly.cz
DTSTAMP:20260422T080506Z
DTSTART;VALUE=DATE:20250403
DTEND;VALUE=DATE:20250404
SUMMARY:V RYTMU TANCE
DESCRIPTION:…ona o sobě tvrdí\, že je spíše introvertka\, zatímco on se charakterizuje jako rozkošný rebel. On ve víře vychováván\, ona si k ní našla cestu v dospělosti. Oba šli za hlasem svého srdce a stali se duchovními. Ona se již dvakrát osobně setkala s papežem\, on po tom stále jen touží. Ona si nejvíc odpočine v galerii na výstavě\, zatímco on sledováním sportovních přenosů.Přestože ona se stala finalistkou pořadu Stardance a on o sobě tvrdí\, že na tanec nemá talent\, pojí je společný pohled na svět v mínění\, že život by měl být tancem\, že se odehrává v rozličných rytmech\, a že protančit život je lepší než jím jen tak prolítnout….Martina Viktorie Kopecká\, farářka Církve československé husitské\, od roku 2021 vyslankyně dobré vůle\, psychoterapeutka a krizová interventka. Vystudovala na Univerzitě Karlově teologii a pak ještě psychologii a speciální pedagogiku. V současném době pracuje na projektu dizertační práce. Jen díky zaměstnání v běžné velké firmě zjistila\, co v životě dělat nechce a začala hledat svou vlastní cestu. Studium teologie se jí stalo velkou láskou\, a tak se rozhodla jít za hlasem svého srdce a stát se duchovní. Nebyla to lehká cesta\, ale dneska už ví\, že to jinak být nemohlo. Jako farářka slouží Bohu i lidem\, křtí\, oddává\, vyprovází na poslední cestě a slouží bohoslužby. Od roku 2013 je členkou ústředního výkonného výboru Světové rady církví. Papež František ji za její ekumenickou činnost vyznamenal medailí a pozval ji\, aby se jako jediná vysvěcená žena – duchovní – zúčastnila biskupské synody ve Vatikánu. Dál se vzdělává\, snaží se rozšiřovat obzory a učí se jezdit na kole. Nedávno dokončila psychoterapeutický výcvik v rodinné terapii psychosomatických poruch. Je nadšenou čtenářkou všech žánrů\, píše blog o životě farářky dnešní doby Deník farářky\, který vyšel knižně. Na podzim 2023 vyšel další její knižní titul s názvem Zpověď farářky. Další její knižní titul nese název Píseň písní. Je rovněž spoluautorkou knih Vánoční Tradinář a Jarní Tradinář. V poslední řadě pořadu Stardance dotančila až do finále\, ale jak sama říká: „naštěstí jsem nevyhrála“. Nejvíc si odpočine v galerii na výstavě.Zbigniew Jan Czendlik (1964)\, řečený Zibi\, je římskokatolický kněz polské národnosti působící v České republice a od roku 1992 děkan lanškrounský. Je mediálně známý zejména díky přátelským vztahům s řadou osobností z oblasti kultury\, šoubyznysu a sportu.Působí rovněž jako moderátor\, např. v pořadu Českého rozhlasu 2 Jak to vidí (2015) a moderoval rovněž cyklus Uchem jehly v České televizi (2011-2022).Rád sportuje\, dříve hrával fotbal a tenis\, nyní se věnuje golfu\, v zimě si rád zalyžuje. Aktivně se podílí na charitativních a sociálních projektech různého typu\, za účelem podpory seniorů či dětí s hendikepem. Je patronem psího útulku.V říjnu 2016 vyšla kniha Zbigniewa Czendlika a Markéty Zahradníkové s názvem Postel hospoda kostel\, za níž obdrželi cenu čtenářů v rámci soutěže Magnesia litera 2017. V roce 2018 vyšel polský překlad této knihy „Bóg nie jest automatem do kawy“. Koncem roku 2018 se na trhu objevila kniha s přepisy rozhovorů s několika českými osobnostmi z pořadu ČT Uchem jehly\, jehož byl Zbigniew moderátorem. Nese název Uchem jehly: Zbigniew Czendlik a jeho hosté. V roce 2020 pak její 2. díl. A do třetice vyšla na podzim 2019 kniha Farská kuchařka\, jíž je spoluautorem. V roce 2021 si zahrál po boku Bolka Polívky roli faráře ve filmu Gump-pes a následně pak v dalším dílu Gump-Jsme Dvojka (2024). Pro ČT natočil v roli moderátora dokumentární cestopisný cyklus V karavanu po Polsku&nbsp\;
LOCATION:Svatobořice-Mistřín
END:VEVENT
END:VCALENDAR