BEGIN:VCALENDAR
VERSION:2.0
CALSCALE:GREGORIAN
PRODID:-//MyApp//Calendar 1.0//EN
BEGIN:VEVENT
METHOD:PUBLISH
UID:47804@regionalniportaly.cz
DTSTAMP:20260424T131340Z
DTSTART;VALUE=DATE:20241103
DTEND;VALUE=DATE:20241104
SUMMARY:Animační dílna s Legem pro děti ve 6–15 let NOVÝ TERMÍN
DESCRIPTION:PŘIDÁVÁME NOVÝ TERMÍNChcete\, aby si vaše děti vyzkoušely něco nového? Zajímá je svět za a před kamerou? Pak zde budete mít k dispozici techniku a zkušené lektory\, kteří děti naučí natočit krátký film\, který děti odnese do světa Lega.Lektoři ze Studia Scala\, kteří kurz povedou\, mají bohaté zkušenosti\, proto se nebojte a přihlaste se také.Místo konání: Městská knihovna KyjovDOPORUČUJEME ZAKOUPIT VSTUPENKU V PŘEDPRODEJI.Kapacita omezenáCena:&nbsp\;250&nbsp\;Kč/dítěDélka kurzu:&nbsp\;3 hodinyObčerstvení:&nbsp\;Drobné občerstvení zajištěno&nbsp\;www.kyjograf.czV případě dotazů nás neváhejte kontaktovat 733644494 alena.truschingerova@kyjograf.cz
LOCATION:Kyjov
END:VEVENT
END:VCALENDAR